Workbook
Name CompanyName: #REF!
Name CustomerLookup: #REF!
Name Invoice_No: #REF!
Name rngInvoice: #REF!

Sheet Branch ATM_1
A1: Bank wise Position of Branches/ATM as on 30.06.2026
A2: SLBC Madhya Pradesh Convenor: Central Bank of India
F4: Numbers
A5: Column1 | B5: Column2 | C5: Column3 | D5: Column4 | E5: Column5 | F5: Column6 | G5: Column7 | H5: Column8
A6: Sr. | B6: BANKS | C6: RURAL | D6: SEMI URBAN | E6: URBAN | F6: TOTAL | G6: ATM
A7: 1 | B7: Bank of Baroda | C7: 50 | D7: 91 | E7: 136 | F7: =Table_1[[#This Row],[Column5]]+Table_1[[#This Row],[Column4]]+Table_1[[#This Row],[Column3]] -> 277 | G7: 388
A8: 2 | B8: Bank of India | C8: 175 | D8: 145 | E8: 154 | F8: 469 | G8: 462
A9: 3 | B9: Bank of Maharashtra | C9: 78 | D9: 45 | E9: 80 | F9: =Table_1[[#This Row],[Column5]]+Table_1[[#This Row],[Column4]]+Table_1[[#This Row],[Column3]] -> 203 | G9: 182
A10: 4 | B10: Canara Bank | C10: 57 | D10: 119 | E10: 140 | F10: =Table_1[[#This Row],[Column5]]+Table_1[[#This Row],[Column4]]+Table_1[[#This Row],[Column3]] -> 316 | G10: 234
A11: 5 | B11: Central Bank of India | C11: 228 | D11: 140 | E11: 96 | F11: =Table_1[[#This Row],[Column5]]+Table_1[[#This Row],[Column4]]+Table_1[[#This Row],[Column3]] -> 464 | G11: 425
A12: 6 | B12: Indian Bank | C12: 81 | D12: 52 | E12: 96 | F12: =Table_1[[#This Row],[Column5]]+Table_1[[#This Row],[Column4]]+Table_1[[#This Row],[Column3]] -> 229 | G12: 140
A13: 7 | B13: Indian Overseas Bank | C13: 9 | D13: 9 | E13: 44 | F13: =Table_1[[#This Row],[Column5]]+Table_1[[#This Row],[Column4]]+Table_1[[#This Row],[Column3]] -> 62 | G13: 55
A14: 8 | B14: Punjab and Sind Bank | C14: 10 | D14: 9 | E14: 35 | F14: =Table_1[[#This Row],[Column5]]+Table_1[[#This Row],[Column4]]+Table_1[[#This Row],[Column3]] -> 54 | G14: 30
A15: 9 | B15: Punjab National Bank | C15: 94 | D15: 107 | E15: 184 | F15: =Table_1[[#This Row],[Column5]]+Table_1[[#This Row],[Column4]]+Table_1[[#This Row],[Column3]] -> 385 | G15: 339
A16: 10 | B16: State Bank of India | C16: 356 | D16: 389 | E16: 430 | F16: =Table_1[[#This Row],[Column5]]+Table_1[[#This Row],[Column4]]+Table_1[[#This Row],[Column3]] -> 1175 | G16: 3892
A17: 11 | B17: UCO Bank | C17: 44 | D17: 51 | E17: 90 | F17: =Table_1[[#This Row],[Column5]]+Table_1[[#This Row],[Column4]]+Table_1[[#This Row],[Column3]] -> 185 | G17: 125
A18: 12 | B18: Union Bank of India | C18: 109 | D18: 96 | E18: 161 | F18: =Table_1[[#This Row],[Column5]]+Table_1[[#This Row],[Column4]]+Table_1[[#This Row],[Column3]] -> 366 | G18: 371
B19: PSBs - SUB TOTAL | C19: =SUBTOTAL(109,C7:C18) -> 1291 | D19: =SUBTOTAL(109,D7:D18) -> 1253 | E19: =SUBTOTAL(109,E7:E18) -> 1646 | F19: =SUBTOTAL(109,F7:F18) -> 4185 | G19: =SUBTOTAL(109,G7:G18) -> 6643
A20: 13 | B20: Axis Bank | C20: 60 | D20: 80 | E20: 134 | F20: =Table_1[[#This Row],[Column5]]+Table_1[[#This Row],[Column4]]+Table_1[[#This Row],[Column3]] -> 274 | G20: 331
A21: 14 | B21: Bandhan Bank | C21: 5 | D21: 32 | E21: 64 | F21: =Table_1[[#This Row],[Column5]]+Table_1[[#This Row],[Column4]]+Table_1[[#This Row],[Column3]] -> 101 | G21: 21
A22: 15 | B22: Catholic Syrian Bank | C22: 0 | D22: 0 | E22: 11 | F22: =Table_1[[#This Row],[Column5]]+Table_1[[#This Row],[Column4]]+Table_1[[#This Row],[Column3]] -> 11 | G22: 6
A23: 16 | B23: City Union Bank | C23: 0 | D23: 0 | E23: 12 | F23: =Table_1[[#This Row],[Column5]]+Table_1[[#This Row],[Column4]]+Table_1[[#This Row],[Column3]] -> 12 | G23: 13
A24: 17 | B24: Development Credit Bank | C24: 11 | D24: 13 | E24: 11 | F24: =Table_1[[#This Row],[Column5]]+Table_1[[#This Row],[Column4]]+Table_1[[#This Row],[Column3]] -> 35 | G24: 32
A25: 18 | B25: Dhan Lakshmi Bank | C25: 0 | D25: 0 | E25: 1 | F25: =Table_1[[#This Row],[Column5]]+Table_1[[#This Row],[Column4]]+Table_1[[#This Row],[Column3]] -> 1 | G25: 1
A26: 19 | B26: Federal Bank Ltd. | C26: 1 | D26: 2 | E26: 15 | F26: =Table_1[[#This Row],[Column5]]+Table_1[[#This Row],[Column4]]+Table_1[[#This Row],[Column3]] -> 18 | G26: 17
A27: 20 | B27: HDFC Bank | C27: 24 | D27: 198 | E27: 216 | F27: =Table_1[[#This Row],[Column5]]+Table_1[[#This Row],[Column4]]+Table_1[[#This Row],[Column3]] -> 438 | G27: 478
A28: 21 | B28: ICICI Bank | C28: 104 | D28: 99 | E28: 143 | F28: =Table_1[[#This Row],[Column5]]+Table_1[[#This Row],[Column4]]+Table_1[[#This Row],[Column3]] -> 346 | G28: 429
A29: 22 | B29: IDBI Bank | C29: 19 | D29: 47 | E29: 57 | F29: =Table_1[[#This Row],[Column5]]+Table_1[[#This Row],[Column4]]+Table_1[[#This Row],[Column3]] -> 123 | G29: 169
A30: 23 | B30: IDFC First Bank | C30: 18 | D30: 27 | E30: 64 | F30: =Table_1[[#This Row],[Column5]]+Table_1[[#This Row],[Column4]]+Table_1[[#This Row],[Column3]] -> 109 | G30: 45
A31: 24 | B31: Indusind Bank Limited | C31: 33 | D31: 35 | E31: 66 | F31: =Table_1[[#This Row],[Column5]]+Table_1[[#This Row],[Column4]]+Table_1[[#This Row],[Column3]] -> 134 | G31: 82
... A40: 33 | B40: Yes Bank | C40: 9 | D40: 21 | E40: 35 | F40: =Table_1[[#This Row],[Column5]]+Table_1[[#This Row],[Column4]]+Table_1[[#This Row],[Column3]] -> 65 | G40: 60
B41: PRIVATE BANK SUB TOTAL | C41: =SUBTOTAL(109,C20:C40) -> 301 | D41: =SUBTOTAL(109,D20:D40) -> 571 | E41: =SUBTOTAL(109,E20:E40) -> 912 | F41: =SUBTOTAL(109,F20:F40) -> 1784 | G41: =SUBTOTAL(109,G20:G40) -> 1790
B42: COMMERCIAL BANKS SUB TOTAL | C42: =C41+C19 -> 1592 | D42: =D41+D19 -> 1824 | E42: =E41+E19 -> 2558 | F42: =F41+F19 -> 5969 | G42: =G41+G19 -> 8433
A43: 34 | B43: MPGB | C43: 854 | D43: 318 | E43: 148 | F43: =Table_1[[#This Row],[Column5]]+Table_1[[#This Row],[Column4]]+Table_1[[#This Row],[Column3]] -> 1320 | G43: 0
B44: RRBs - SUB TOTAL | C44: =C43 -> 854 | D44: =D43 -> 318 | E44: =E43 -> 148 | F44: =F43 -> 1320 | G44: =G43 -> 0
A45: 35 | B45: DCCB & Apex Bank | C45: 360 | D45: 283 | E45: 247 | F45: =Table_1[[#This Row],[Column5]]+Table_1[[#This Row],[Column4]]+Table_1[[#This Row],[Column3]] -> 890 | G45: 45
B46: CO-OPERATIVE BANK - SUB TOTAL | C46: =C45 -> 360 | D46: =D45 -> 283 | E46: =E45 -> 247 | F46: =F45 -> 890 | G46: =G45 -> 45
A47: 36 | B47: AU Small Finance Bank | C47: 24 | D47: 94 | E47: 78 | F47: =Table_1[[#This Row],[Column5]]+Table_1[[#This Row],[Column4]]+Table_1[[#This Row],[Column3]] -> 196 | G47: 60
A48: 37 | B48: Equitas Small Finance Bank | C48: 5 | D48: 16 | E48: 38 | F48: =Table_1[[#This Row],[Column5]]+Table_1[[#This Row],[Column4]]+Table_1[[#This Row],[Column3]] -> 59 | G48: 21
A49: 38 | B49: ESAF | C49: 3 | D49: 47 | E49: 21 | F49: =Table_1[[#This Row],[Column5]]+Table_1[[#This Row],[Column4]]+Table_1[[#This Row],[Column3]] -> 71 | G49: 47
...

Sheet CD Ratio_2
A1: CENTRE WISE DEPOSITS, ADVANCES AND C.D.RATIO 30.06.2026
A2: SLBC, Madhya Pradesh Convenor: Central Bank of India
B3: [Amt. in lacs] | J3: TABLE-2
A4: Sr. | B4: BANKS | C4: DEPOSIT | F4: ADVANCES | I4: C.D RATIO
C5: Rural | D5: Semi-Urban | E5: Urban & Metro | F5: Rural | G5: Semi-Urban | H5: Urban & Metro | I5: Rural | J5: Semi-Urban | K5: Urban & Metro
A6: 1 | B6: Bank of Baroda | C6: 163271.11 | D6: 625279.48 | E6: 2121151.1 | F6: 162297.67 | G6: 606440.69 | H6: 1796978.4 | I6: =F6*100/C6 -> 99.403789 | J6: =G6*100/D6 -> 96.987141 | K6: =H6*100/E6 -> 84.717133
A7: 2 | B7: Bank of India | C7: 885489.86 | D7: 1203635.8 | E7: 2909768.8 | F7: 1135577.9 | G7: 1080332.3 | H7: 2111664.8 | I7: =F7*100/C7 -> 128.2429 | J7: =G7*100/D7 -> 89.755747 | K7: =H7*100/E7 -> 72.571567
A8: 3 | B8: Bank of Maharashtra | C8: 357978.9 | D8: 191799.69 | E8: 1177974.1 | F8: 180535.81 | G8: 175294.35 | H8: 729269.5 | I8: =F8*100/C8 -> 50.43197 | J8: =G8*100/D8 -> 91.394491 | K8: =H8*100/E8 -> 61.908787
A9: 4 | B9: Canara Bank | C9: 148617.79 | D9: 409231.52 | E9: 1766317.8 | F9: 135264.06 | G9: 490362.33 | H9: 1399118.6 | I9: =F9*100/C9 -> 91.014716 | J9: =G9*100/D9 -> 119.82516 | K9: =H9*100/E9 -> 79.211032
A10: 5 | B10: Central Bank of India | C10: 1328707.7 | D10: 1353775.8 | E10: 2445769 | F10: 767284.01 | G10: 880747.55 | H10: 1745182.5 | I10: =F10*100/C10 -> 57.746636 | J10: =G10*100/D10 -> 65.058596 | K10: =H10*100/E10 -> 71.355164
A11: 6 | B11: Indian Bank | C11: 396017.27 | D11: 446283.17 | E11: 1806564.8 | F11: 115992 | G11: 141133.77 | H11: 1085475.8 | I11: =F11*100/C11 -> 29.289632 | J11: =G11*100/D11 -> 31.624264 | K11: =H11*100/E11 -> 60.085075
A12: 7 | B12: Indian Overseas Bank | C12: 26572.36 | D12: 16399.76 | E12: 328199.23 | F12: 19638.62 | G12: 18740.19 | H12: 456447.75 | I12: =F12*100/C12 -> 73.906194 | J12: =G12*100/D12 -> 114.27112 | K12: =H12*100/E12 -> 139.07642
A13: 8 | B13: Punjab and Sind Bank | C13: 11562.2 | D13: 22683.93 | E13: 271118.32 | F13: 6510.38 | G13: 20224.31 | H13: 156775.76 | I13: =F13*100/C13 -> 56.30745 | J13: =G13*100/D13 -> 89.156994 | K13: =H13*100/E13 -> 57.825587
A14: 9 | B14: Punjab National Bank | C14: 389859.42 | D14: 731396.54 | E14: 3087587.4 | F14: 297635.75 | G14: 476486.96 | H14: 3196118.1 | I14: =F14*100/C14 -> 76.344378 | J14: =G14*100/D14 -> 65.147555 | K14: =H14*100/E14 -> 103.51506
A15: 10 | B15: State Bank of India | C15: 2234064.6 | D15: 6394983.1 | E15: 15223295 | F15: 1525952.7 | G15: 3703917.7 | H15: 8169227.4 | I15: =F15*100/C15 -> 68.303879 | J15: =G15*100/D15 -> 57.919117 | K15: =H15*100/E15 -> 53.662677
A16: 11 | B16: UCO Bank | C16: 144752.59 | D16: 182610.56 | E16: 974374.42 | F16: 108685.77 | G16: 137964.97 | H16: 775547.14 | I16: =F16*100/C16 -> 75.083817 | J16: =G16*100/D16 -> 75.551474 | K16: =H16*100/E16 -> 79.594366
A17: 12 | B17: Union Bank of India | C17: 733537.86 | D17: 928559.58 | E17: 3624354.9 | F17: 371005.4 | G17: 468999.58 | H17: 1580322.7 | I17: =F17*100/C17 -> 50.577539 | J17: =G17*100/D17 -> 50.508292 | K17: =H17*100/E17 -> 43.602868
B18: PSBs - SUB TOTAL | C18: =SUM(C6:C17) -> 6820431.6 | D18: =SUM(D6:D17) -> 12506639 | E18: =SUM(E6:E17) -> 35736475 | F18: =SUM(F6:F17) -> 4826380.1 | G18: =SUM(G6:G17) -> 8200644.7 | H18: =SUM(H6:H17) -> 23202128 | I18: =F18*100/C18 -> 70.763559 | J18: =G18*100/D18 -> 65.570332 | K18: =H18*100/E18 -> 64.925622
A19: 13 | B19: Axis Bank | C19: 108968.34 | D19: 320244.55 | E19: 2234326.9 | F19: 187253.25 | G19: 536408.68 | H19: 1998329.3 | I19: =F19*100/C19 -> 171.84189 | J19: =G19*100/D19 -> 167.49971 | K19: =H19*100/E19 -> 89.43764
A20: 14 | B20: Bandhan Bank | C20: 11236.83 | D20: 71912.91 | E20: 283353.94 | F20: 30261.78 | G20: 263389.08 | H20: 636964.51 | I20: =F20*100/C20 -> 269.30887 | J20: =G20*100/D20 -> 366.26119 | K20: =H20*100/E20 -> 224.79465
A21: 15 | B21: Catholic Syrian Bank | C21: 0 | D21: 0 | E21: 45493.9 | F21: 0 | G21: 0 | H21: 9199.14 | I21: 0 | J21: 0 | K21: =H21*100/E21 -> 20.220601
A22: 16 | B22: City Union Bank | C22: 0 | D22: 0 | E22: 28012.81 | F22: 0 | G22: 0 | H22: =2496+19272.64 -> 21768.64 | I22: 0 | J22: 0 | K22: =H22*100/E22 -> 77.709591
A23: 17 | B23: Development Credit Bank | C23: 24115.54 | D23: 46618.4 | E23: 69559.43 | F23: 81941.28 | G23: 119605.16 | H23: 98525.42 | I23: =F23*100/C23 -> 339.78621 | J23: =G23*100/D23 -> 256.56213 | K23: =H23*100/E23 -> 141.64207
A24: 18 | B24: Dhan Lakshmi Bank | C24: 0 | D24: 0 | E24: 4566.46 | F24: 0 | G24: 0 | H24: 1153.77 | I24: 0 | J24: 0 | K24: =H24*100/E24 -> 25.26618
A25: 19 | B25: Federal Bank Ltd. | C25: 3676.97 | D25: 5006.27 | E25: 158446.17 | F25: 8486.31 | G25: 12147.7 | H25: 97772.11 | I25: =F25*100/C25 -> 230.79628 | J25: =G25*100/D25 -> 242.64972 | K25: =H25*100/E25 -> 61.706831
A26: 20 | B26: HDFC Bank | C26: 51582.78 | D26: 974337.47 | E26: 4938873.6 | F26: 52964.12 | G26: 1849224.6 | H26: 5911571.8 | I26: =F26*100/C26 -> 102.67791 | J26: =G26*100/D26 -> 189.79303 | K26: =H26*100/E26 -> 119.69474
A27: 21 | B27: ICICI Bank | C27: 70811.29 | D27: 546789.98 | E27: 3533667 | F27: 145119.4 | G27: 963504.19 | H27: 3413527.5 | I27: =F27*100/C27 -> 204.93822 | J27: =G27*100/D27 -> 176.21102 | K27: =H27*100/E27 -> 96.600148
A28: 22 | B28: IDBI Bank | C28: 26374.28 | D28: 147447.25 | E28: 955913.63 | F28: 37122.42 | G28: 121903.57 | H28: 469633.82 | I28: =F28*100/C28 -> 140.75235 | J28: =G28*100/D28 -> 82.676055 | K28: =H28*100/E28 -> 49.129315
A29: 23 | B29: IDFC First Bank | C29: 67715.58 | D29: 138867.7 | E29: 542639.1 | F29: 111822.55 | G29: 209216.5 | H29: 773585.72 | I29: =F29*100/C29 -> 165.13563 | J29: =G29*100/D29 -> 150.65886 | K29: =H29*100/E29 -> 142.55989
A30: 24 | B30: Indusind Bank Limited | C30: 30290.46 | D30: 37202 | E30: 580572.99 | F30: 142679.52 | G30: 239421.15 | H30: 638848.55 | I30: =F30*100/C30 -> 471.03781 | J30: =G30*100/D30 -> 643.57064 | K30: =H30*100/E30 -> 110.03759
A31: 25 | B31: Jammu and Kashmir Bank | C31: 0 | D31: 0 | E31: 6861.23 | F31: 0 | G31: 0 | H31: 5138.42 | I31: 0 | J31: 0 | K31: =H31*100/E31 -> 74.890654
A32: 26 | B32: Karnataka Bank Limited | C32: 0 | D32: 0 | E32: 37126.22 | F32: 0 | G32: 0 | H32: 33945.95 | I32: 0 | J32: 0 | K32: =H32*100/E32 -> 91.433898
A33: 27 | B33: Karur Vysya Bank Ltd. | C33: 0 | D33: 0 | E33: 62936.58 | F33: 0 | G33: 0 | H33: 33593.72 | I33: 0 | J33: 0 | K33: =H33*100/E33 -> 53.377098
A34: 28 | B34: Kotak Mahindra Bank | C34: 34300.88 | D34: 49734.16 | E34: 642895.27 | F34: 109110.7 | G34: 154750.63 | H34: 1130881.8 | I34: =F34*100/C34 -> 318.09884 | J34: =G34*100/D34 -> 311.15561 | K34: =H34*100/E34 -> 175.90451
A35: 29 | B35: Lakshmi Vilas Bank | C35: 0 | D35: 0 | E35: 10777.81 | F35: 0 | G35: 0 | H35: 25126.57 | I35: 0 | J35: 0 | K35: =H35*100/E35 -> 233.13243
A36: 30 | B36: Ratnakar Bank Ltd. (RBL) | C36: 5687.8 | D36: 17562.68 | E36: 76092.64 | F36: 23857.83 | G36: 40807.24 | H36: 83479.04 | I36: =F36*100/C36 -> 419.4562 | J36: =G36*100/D36 -> 232.35201 | K36: =H36*100/E36 -> 109.70711
A37: 31 | B37: South Indian Bank | C37: 0 | D37: 0 | E37: 44325.04 | F37: 0 | G37: 0 | H37: 27819.26 | I37: 0 | J37: 0 | K37: =H37*100/E37 -> 62.761951
A38: 32 | B38: Tamilnadu Mercantile Bank | C38: 0 | D38: 972.5 | E38: 3659.7 | F38: 0 | G38: 2704.49 | H38: 5142.29 | I38: 0 | J38: =G38*100/D38 -> 278.09666 | K38: =H38*100/E38 -> 140.51124
A39: 33 | B39: Yes Bank | C39: 12753.31 | D39: 41159.78 | E39: 379920.12 | F39: 25691.7 | G39: 76927.84 | H39: 602027.19 | I39: =F39*100/C39 -> 201.45123 | J39: =G39*100/D39 -> 186.90051 | K39: =H39*100/E39 -> 158.46152
B40: PRIVATE BANK SUB TOTAL | C40: =SUM(C19:C39) -> 447514.06 | D40: =SUM(D19:D39) -> 2397855.7 | E40: =SUM(E19:E39) -> 14640021 | F40: =SUM(F19:F39) -> 956310.86 | G40: =SUM(G19:G39) -> 4590010.8 | H40: =SUM(H19:H39) -> 16018035 | I40: =F40*100/C40 -> 213.69404 | J40: =G40*100/D40 -> 191.42148 | K40: =H40*100/E40 -> 109.41265
...

Sheet CD Ratio_3(i)
A1: BANKWISE TOTAL DEPOSITS, ADVANCES AND C.D.RATIO As on 30.06.2026
A2: SLBC, Madhya Pradesh Convenor-Central Bank of India
B3: [Amt. in lacs] | H3: TABLE: 3(i)
A4: SR | B4: BANKS | C4: DEPOSITS | E4: ADVANCES | H4: C.D RATIO
C5: Previous Quarter 31.03.2026 | D5: Current Quarter 30.06.2026 | E5: Previous Quarter 31.03.2026 | F5: Current Quarter 30.06.2026 | G5: Credit as per place of Utilization Jun-26 | H5: Previous Quarter 31.03.2026 | I5: Current Quarter 30.06.2026 | J5: Including Cr. as per place of utilization 30.06.2026
A6: 1 | B6: Bank of Baroda | C6: 2985365 | D6: ='CD Ratio_2'!C6+'CD Ratio_2'!D6+'CD Ratio_2'!E6 -> 2909701.7 | E6: 2534180.8 | F6: ='CD Ratio_2'!F6+'CD Ratio_2'!G6+'CD Ratio_2'!H6 -> 2565716.8 | G6: 0 | H6: =E6/C6*100 -> 84.8868 | I6: =F6/D6*100 -> 88.178 | J6: =(F6+G6)*100/D6 -> 88.178
A7: 2 | B7: Bank of India | C7: 4698227.6 | D7: ='CD Ratio_2'!C7+'CD Ratio_2'!D7+'CD Ratio_2'!E7 -> 4998894.4 | E7: 4352188.9 | F7: ='CD Ratio_2'!F7+'CD Ratio_2'!G7+'CD Ratio_2'!H7 -> 4327575 | G7: 0 | H7: =E7/C7*100 -> 92.634698 | I7: =F7/D7*100 -> 86.570642 | J7: =(F7+G7)*100/D7 -> 86.570642
A8: 3 | B8: Bank of Maharashtra | C8: 1650602.1 | D8: ='CD Ratio_2'!C8+'CD Ratio_2'!D8+'CD Ratio_2'!E8 -> 1727752.7 | E8: 1036882.8 | F8: ='CD Ratio_2'!F8+'CD Ratio_2'!G8+'CD Ratio_2'!H8 -> 1085099.7 | G8: 0 | H8: =E8/C8*100 -> 62.818459 | I8: =F8/D8*100 -> 62.804107 | J8: =(F8+G8)*100/D8 -> 62.804107
A9: 4 | B9: Canara Bank | C9: 2106065.1 | D9: ='CD Ratio_2'!C9+'CD Ratio_2'!D9+'CD Ratio_2'!E9 -> 2324167.1 | E9: 2554000.6 | F9: ='CD Ratio_2'!F9+'CD Ratio_2'!G9+'CD Ratio_2'!H9 -> 2024745 | G9: 0 | H9: =E9/C9*100 -> 121.26884 | I9: =F9/D9*100 -> 87.117012 | J9: =(F9+G9)*100/D9 -> 87.117012
A10: 5 | B10: Central Bank of India | C10: 4867471.6 | D10: ='CD Ratio_2'!C10+'CD Ratio_2'!D10+'CD Ratio_2'!E10 -> 5128252.6 | E10: 2864207.5 | F10: ='CD Ratio_2'!F10+'CD Ratio_2'!G10+'CD Ratio_2'!H10 -> 3393214 | G10: 0 | H10: =E10/C10*100 -> 58.843846 | I10: =F10/D10*100 -> 66.167062 | J10: =(F10+G10)*100/D10 -> 66.167062
A11: 6 | B11: Indian Bank | C11: 2582067.7 | D11: ='CD Ratio_2'!C11+'CD Ratio_2'!D11+'CD Ratio_2'!E11 -> 2648865.2 | E11: 1335707.4 | F11: ='CD Ratio_2'!F11+'CD Ratio_2'!G11+'CD Ratio_2'!H11 -> 1342601.6 | H11: =E11/C11*100 -> 51.730145 | I11: =F11/D11*100 -> 50.685915 | J11: =(F11+G11)*100/D11 -> 50.685915
A12: 7 | B12: Indian Overseas Bank | C12: 366289.53 | D12: ='CD Ratio_2'!C12+'CD Ratio_2'!D12+'CD Ratio_2'!E12 -> 371171.35 | E12: 501893.49 | F12: ='CD Ratio_2'!F12+'CD Ratio_2'!G12+'CD Ratio_2'!H12 -> 494826.56 | G12: 0 | H12: =E12/C12*100 -> 137.02098 | I12: =F12/D12*100 -> 133.31486 | J12: =(F12+G12)*100/D12 -> 133.31486
A13: 8 | B13: Punjab and Sind Bank | C13: 304876.26 | D13: ='CD Ratio_2'!C13+'CD Ratio_2'!D13+'CD Ratio_2'!E13 -> 305364.45 | E13: 173377.97 | F13: ='CD Ratio_2'!F13+'CD Ratio_2'!G13+'CD Ratio_2'!H13 -> 183510.45 | G13: 0 | H13: =E13/C13*100 -> 56.868308 | I13: =F13/D13*100 -> 60.095551 | J13: =(F13+G13)*100/D13 -> 60.095551
A14: 9 | B14: Punjab National Bank | C14: 4161991.9 | D14: ='CD Ratio_2'!C14+'CD Ratio_2'!D14+'CD Ratio_2'!E14 -> 4208843.4 | E14: 3759988.9 | F14: ='CD Ratio_2'!F14+'CD Ratio_2'!G14+'CD Ratio_2'!H14 -> 3970240.8 | G14: 0 | H14: =E14/C14*100 -> 90.341092 | I14: =F14/D14*100 -> 94.330923 | J14: =(F14+G14)*100/D14 -> 94.330923
A15: 10 | B15: State Bank of India | C15: 23651037 | D15: ='CD Ratio_2'!C15+'CD Ratio_2'!D15+'CD Ratio_2'!E15 -> 23852342 | E15: 13009043 | F15: ='CD Ratio_2'!F15+'CD Ratio_2'!G15+'CD Ratio_2'!H15 -> 13399098 | G15: 2742259.5 | H15: =E15/C15*100 -> 55.004115 | I15: =F15/D15*100 -> 56.175187 | J15: =(F15+G15)*100/D15 -> 67.672002
A16: 11 | B16: UCO Bank | C16: 1253293.6 | D16: ='CD Ratio_2'!C16+'CD Ratio_2'!D16+'CD Ratio_2'!E16 -> 1301737.6 | E16: 1057833.8 | F16: ='CD Ratio_2'!F16+'CD Ratio_2'!G16+'CD Ratio_2'!H16 -> 1022197.9 | G16: 0 | H16: =E16/C16*100 -> 84.404307 | I16: =F16/D16*100 -> 78.525649 | J16: =(F16+G16)*100/D16 -> 78.525649
A17: 12 | B17: Union Bank of India | C17: 5218703.6 | D17: ='CD Ratio_2'!C17+'CD Ratio_2'!D17+'CD Ratio_2'!E17 -> 5286452.3 | E17: 2377291.5 | F17: ='CD Ratio_2'!F17+'CD Ratio_2'!G17+'CD Ratio_2'!H17 -> 2420327.6 | G17: 17414 | H17: =E17/C17*100 -> 45.553295 | I17: =F17/D17*100 -> 45.78359 | J17: =(F17+G17)*100/D17 -> 46.112998
B18: PSBs - SUB TOTAL | C18: 53845991 | D18: =SUM(D6:D17) -> 55063545 | E18: 35556597 | F18: ='CD Ratio_2'!F18+'CD Ratio_2'!G18+'CD Ratio_2'!H18 -> 36229153 | G18: =SUM(G6:G17) -> 2759673.5 | H18: =E18/C18*100 -> 66.03388 | I18: =F18/D18*100 -> 65.79517 | J18: =(F18+G18)*100/D18 -> 70.806968
A19: 13 | B19: Axis Bank | C19: 2659822.2 | D19: ='CD Ratio_2'!C19+'CD Ratio_2'!D19+'CD Ratio_2'!E19 -> 2663539.8 | E19: 2725655.7 | F19: ='CD Ratio_2'!F19+'CD Ratio_2'!G19+'CD Ratio_2'!H19 -> 2721991.2 | G19: 0 | H19: =E19/C19*100 -> 102.47511 | I19: =F19/D19*100 -> 102.1945 | J19: =(F19+G19)*100/D19 -> 102.1945
A20: 14 | B20: Bandhan Bank | C20: 375741.36 | D20: ='CD Ratio_2'!C20+'CD Ratio_2'!D20+'CD Ratio_2'!E20 -> 366503.68 | E20: 950437.64 | F20: ='CD Ratio_2'!F20+'CD Ratio_2'!G20+'CD Ratio_2'!H20 -> 930615.37 | G20: 0 | H20: =E20/C20*100 -> 252.94997 | I20: =F20/D20*100 -> 253.91706 | J20: =(F20+G20)*100/D20 -> 253.91706
A21: 15 | B21: Catholic Syrian Bank | C21: 78145.19 | D21: ='CD Ratio_2'!C21+'CD Ratio_2'!D21+'CD Ratio_2'!E21 -> 45493.9 | E21: 15132.8 | F21: ='CD Ratio_2'!F21+'CD Ratio_2'!G21+'CD Ratio_2'!H21 -> 9199.14 | G21: 0 | H21: =E21/C21*100 -> 19.364979 | I21: =F21/D21*100 -> 20.220601 | J21: =(F21+G21)*100/D21 -> 20.220601
A22: 16 | B22: City Union Bank | C22: 22919.86 | D22: ='CD Ratio_2'!C22+'CD Ratio_2'!D22+'CD Ratio_2'!E22 -> 28012.81 | E22: 22023.53 | F22: ='CD Ratio_2'!F22+'CD Ratio_2'!G22+'CD Ratio_2'!H22 -> 21768.64 | G22: 0 | H22: =E22/C22*100 -> 96.089287 | I22: =F22/D22*100 -> 77.709591 | J22: 0
A23: 17 | B23: Development Credit Bank | C23: 135327.44 | D23: ='CD Ratio_2'!C23+'CD Ratio_2'!D23+'CD Ratio_2'!E23 -> 140293.37 | E23: 295277.51 | F23: ='CD Ratio_2'!F23+'CD Ratio_2'!G23+'CD Ratio_2'!H23 -> 300071.86 | G23: 0 | H23: =E23/C23*100 -> 218.19485 | I23: =F23/D23*100 -> 213.88884 | J23: =(F23+G23)*100/D23 -> 213.88884
A24: 18 | B24: Dhan Lakshmi Bank | C24: 4700.81 | D24: ='CD Ratio_2'!C24+'CD Ratio_2'!D24+'CD Ratio_2'!E24 -> 4566.46 | E24: 1007.26 | F24: ='CD Ratio_2'!F24+'CD Ratio_2'!G24+'CD Ratio_2'!H24 -> 1153.77 | G24: 0 | H24: =E24/C24*100 -> 21.427371 | I24: =F24/D24*100 -> 25.26618 | J24: =(F24+G24)*100/D24 -> 25.26618
A25: 19 | B25: Federal Bank Ltd. | C25: 170493.01 | D25: ='CD Ratio_2'!C25+'CD Ratio_2'!D25+'CD Ratio_2'!E25 -> 167129.41 | E25: 109127.79 | F25: ='CD Ratio_2'!F25+'CD Ratio_2'!G25+'CD Ratio_2'!H25 -> 118406.12 | G25: 0 | H25: =E25/C25*100 -> 64.007193 | I25: =F25/D25*100 -> 70.846968 | J25: =(F25+G25)*100/D25 -> 70.846968
A26: 20 | B26: HDFC Bank | C26: 5816468.7 | D26: ='CD Ratio_2'!C26+'CD Ratio_2'!D26+'CD Ratio_2'!E26 -> 5964793.9 | E26: 7820505.8 | F26: ='CD Ratio_2'!F26+'CD Ratio_2'!G26+'CD Ratio_2'!H26 -> 7813760.5 | G26: 0 | H26: =E26/C26*100 -> 134.45453 | I26: =F26/D26*100 -> 130.998 | J26: =(F26+G26)*100/D26 -> 130.998
A27: 21 | B27: ICICI Bank | C27: 4010241.8 | D27: ='CD Ratio_2'!C27+'CD Ratio_2'!D27+'CD Ratio_2'!E27 -> 4151268.3 | E27: 4349950.8 | F27: ='CD Ratio_2'!F27+'CD Ratio_2'!G27+'CD Ratio_2'!H27 -> 4522151.1 | G27: 0 | H27: =E27/C27*100 -> 108.47104 | I27: =F27/D27*100 -> 108.93421 | J27: =(F27+G27)*100/D27 -> 108.93421
A28: 22 | B28: IDBI Bank | C28: 1162680.7 | D28: ='CD Ratio_2'!C28+'CD Ratio_2'!D28+'CD Ratio_2'!E28 -> 1129735.2 | E28: 611304.6 | F28: ='CD Ratio_2'!F28+'CD Ratio_2'!G28+'CD Ratio_2'!H28 -> 628659.81 | G28: 0 | H28: =E28/C28*100 -> 52.577171 | I28: =F28/D28*100 -> 55.646654 | J28: =(F28+G28)*100/D28 -> 55.646654
A29: 23 | B29: IDFC First Bank | C29: 707170.09 | D29: ='CD Ratio_2'!C29+'CD Ratio_2'!D29+'CD Ratio_2'!E29 -> 749222.38 | E29: 1072800.5 | F29: ='CD Ratio_2'!F29+'CD Ratio_2'!G29+'CD Ratio_2'!H29 -> 1094624.8 | G29: 0 | H29: =E29/C29*100 -> 151.70332 | I29: =F29/D29*100 -> 146.10145 | J29: =(F29+G29)*100/D29 -> 146.10145
A30: 24 | B30: Indusind Bank Limited | C30: 651984.06 | D30: ='CD Ratio_2'!C30+'CD Ratio_2'!D30+'CD Ratio_2'!E30 -> 648065.45 | E30: 1026686.5 | F30: ='CD Ratio_2'!F30+'CD Ratio_2'!G30+'CD Ratio_2'!H30 -> 1020949.2 | G30: 0 | H30: =E30/C30*100 -> 157.4711 | I30: =F30/D30*100 -> 157.53798 | J30: =(F30+G30)*100/D30 -> 157.53798
A31: 25 | B31: Jammu and Kashmir Bank | C31: 6579.83 | D31: ='CD Ratio_2'!C31+'CD Ratio_2'!D31+'CD Ratio_2'!E31 -> 6861.23 | E31: 5422.19 | F31: ='CD Ratio_2'!F31+'CD Ratio_2'!G31+'CD Ratio_2'!H31 -> 5138.42 | G31: 0 | H31: =E31/C31*100 -> 82.406232 | I31: =F31/D31*100 -> 74.890654 | J31: =(F31+G31)*100/D31 -> 74.890654
A32: 26 | B32: Karnataka Bank Limited | C32: 37616.87 | D32: ='CD Ratio_2'!C32+'CD Ratio_2'!D32+'CD Ratio_2'!E32 -> 37126.22 | E32: 32965.71 | F32: ='CD Ratio_2'!F32+'CD Ratio_2'!G32+'CD Ratio_2'!H32 -> 33945.95 | G32: 0 | H32: =E32/C32*100 -> 87.635441 | I32: =F32/D32*100 -> 91.433898 | J32: =(F32+G32)*100/D32 -> 91.433898
A33: 27 | B33: Karur Vysya Bank Ltd. | C33: 48207.98 | D33: ='CD Ratio_2'!C33+'CD Ratio_2'!D33+'CD Ratio_2'!E33 -> 62936.58 | E33: 30206.82 | F33: ='CD Ratio_2'!F33+'CD Ratio_2'!G33+'CD Ratio_2'!H33 -> 33593.72 | G33: 0 | H33: =E33/C33*100 -> 62.659377 | I33: =F33/D33*100 -> 53.377098 | J33: =(F33+G33)*100/D33 -> 53.377098
A34: 28 | B34: Kotak Mahindra Bank | C34: 718260.2 | D34: ='CD Ratio_2'!C34+'CD Ratio_2'!D34+'CD Ratio_2'!E34 -> 726930.31 | E34: 1393343.3 | F34: ='CD Ratio_2'!F34+'CD Ratio_2'!G34+'CD Ratio_2'!H34 -> 1394743.1 | G34: 0 | H34: =E34/C34*100 -> 193.98866 | I34: =F34/D34*100 -> 191.86751 | J34: =(F34+G34)*100/D34 -> 191.86751
... A39: 33 | B39: Yes Bank | C39: 439775.58 | D39: ='CD Ratio_2'!C39+'CD Ratio_2'!D39+'CD Ratio_2'!E39 -> 433833.21 | E39: 714549.15 | F39: ='CD Ratio_2'!F39+'CD Ratio_2'!G39+'CD Ratio_2'!H39 -> 704646.73 | G39: 0 | H39: =E39/C39*100 -> 162.48041 | I39: =F39/D39*100 -> 162.42342 | J39: =(F39+G39)*100/D39 -> 162.42342
B40: PRIVATE BANK SUB TOTAL | C40: 17215189 | D40: =SUM(D19:D39) -> 17485390 | E40: 21369743 | F40: ='CD Ratio_2'!F40+'CD Ratio_2'!G40+'CD Ratio_2'!H40 -> 21564356 | G40: =SUM(G19:G39) -> 0 | H40: =E40/C40*100 -> 124.13307 | I40: =F40/D40*100 -> 123.32785 | J40: =(F40+G40)*100/D40 -> 123.32785
B41: COMMERCIAL BANKS SUB TOTAL | C41: 71061180 | D41: =D40+D18 -> 72548935 | E41: 56926340 | F41: ='CD Ratio_2'!F41+'CD Ratio_2'!G41+'CD Ratio_2'!H41 -> 57793509 | G41: =G40+G18 -> 2759673.5 | H41: =E41/C41*100 -> 80.108915 | I41: =F41/D41*100 -> 79.661416 | J41: =(F41+G41)*100/D41 -> 83.465295
A42: 34 | B42: MPGB | C42: 3447848.3 | D42: ='CD Ratio_2'!C42+'CD Ratio_2'!D42+'CD Ratio_2'!E42 -> 3493028.1 | E42: 2445279.2 | F42: ='CD Ratio_2'!F42+'CD Ratio_2'!G42+'CD Ratio_2'!H42 -> 2464443.6 | G42: 0 | H42: =E42/C42*100 -> 70.92189 | I42: =F42/D42*100 -> 70.553213 | J42: =(F42+G42)*100/D42 -> 70.553213
B43: RRBs - SUB TOTAL | C43: 3447848.3 | D43: ='CD Ratio_2'!C43+'CD Ratio_2'!D43+'CD Ratio_2'!E43 -> 3493028.1 | E43: 2445279.2 | F43: ='CD Ratio_2'!F43+'CD Ratio_2'!G43+'CD Ratio_2'!H43 -> 2464443.6 | G43: =SUM(G42:G42) -> 0 | H43: =E43/C43*100 -> 70.92189 | I43: =F43/D43*100 -> 70.553213 | J43: =(F43+G43)*100/D43 -> 70.553213
A44: 35 | B44: DCCB & Apex Bank | C44: 4342048.1 | D44: ='CD Ratio_2'!C44+'CD Ratio_2'!D44+'CD Ratio_2'!E44 -> 4406990.7 | E44: 4797729.7 | F44: ='CD Ratio_2'!F44+'CD Ratio_2'!G44+'CD Ratio_2'!H44 -> 4803420.9 | G44: 0 | H44: =E44/C44*100 -> 110.49462 | I44: =F44/D44*100 -> 108.99548 | J44: =(F44+G44)*100/D44 -> 108.99548
...

Sheet CD Ratio_3(ii)Dist
A2: CREDIT DEPOSIT RATIO (DISTRICT WISE) as on June 30, 2026
A3: Amount in lakh
A4: Sr. | B4: District Name | C4: Deposits | D4: Advances | E4: CD Ratio
A5: 1 | B5: Agar-malwa | C5: 201644 | D5: 446917 | E5: 221.64
A6: 2 | B6: Alirajpur | C6: 216364 | D6: 151899 | E6: 70.2
A7: 3 | B7: Anuppur | C7: 581363 | D7: 183908 | E7: 31.63
A8: 4 | B8: Ashoknagar | C8: 370446 | D8: 443415 | E8: 119.7
A9: 5 | B9: Balaghat | C9: 860905 | D9: 622341 | E9: 72.29
A10: 6 | B10: Barwani | C10: 567386 | D10: 673916 | E10: 118.78
A11: 7 | B11: Betul | C11: 1164175 | D11: 793491 | E11: 68.16
A12: 8 | B12: Bhind | C12: 705978 | D12: 424579 | E12: 60.14
A13: 9 | B13: Bhopal | C13: 16933354 | D13: 12542490 | E13: 74.07
A14: 10 | B14: Burhanpur | C14: 487382 | D14: 417317 | E14: 85.62
A15: 11 | B15: Chhatarpur | C15: 1212862 | D15: 612679 | E15: 50.52
A16: 12 | B16: Chhindwara | C16: 1353020 | D16: 1115240 | E16: 82.43
... A59: 55 | B59: Vidisha | C59: 958005 | D59: 1071918 | E59: 111.89
B60: Grand Total | C60: =SUM(C5:C59) -> 81736714 | D60: =SUM(D5:D59) -> 67562080 | E60: =D60/C60*100 -> 82.65818
D61: Page-91

Sheet OutstandingAgri_4
A1: AGRICULTURE LOANS OUTSTANDING AS ON 30.06.2026
B2: Amt. in Lakhs | H2: No. in actual | J2: TABLE: 4
A3: Sr. | B3: Banks | C3: Outstanding at the end of quarter 30.06.2026 | M3: % of Agri adv. to total credit
C4: Farm Credit | E4: Out of Farm Credit total Crop Loans | G4: Agri Infrastructure | I4: Ancillary Activities | K4: Total Agri
C5: No. | D5: Amt. | E5: No. | F5: Amt. | G5: No. | H5: Amt. | I5: No. | J5: Amt. | K5: No. | L5: Amt.
A6: 1 | B6: Bank of Baroda | C6: 120818 | D6: 338535.49 | E6: 86892 | F6: 239969.15 | G6: 2155 | H6: 28155.71 | I6: 3897 | J6: 142236.37 | K6: =C6+G6+I6 -> 126870 | L6: =D6+H6+J6 -> 508927.57 | M6: =L6*100/'CD Ratio_3(i)'!F6 -> 19.835688
A7: 2 | B7: Bank of India | C7: 643953 | D7: 1716353.4 | E7: 374987 | F7: 988506.01 | G7: 730 | H7: 40037.56 | I7: 18423 | J7: 112391.12 | K7: =C7+G7+I7 -> 663106 | L7: =D7+H7+J7 -> 1868782 | M7: =L7*100/'CD Ratio_3(i)'!F7 -> 43.183123
A8: 3 | B8: Bank of Maharashtra | C8: 45216 | D8: 132983.8 | E8: 30896 | F8: 73805.66 | G8: 564 | H8: 17957.79 | I8: 18287 | J8: 125691.18 | K8: =C8+G8+I8 -> 64067 | L8: =D8+H8+J8 -> 276632.77 | M8: =L8*100/'CD Ratio_3(i)'!F8 -> 25.493766
A9: 4 | B9: Canara Bank | C9: 131387 | D9: 347482.02 | E9: 118042 | F9: 319857.07 | G9: 586 | H9: 55862.57 | I9: 2129 | J9: 52622.09 | K9: =C9+G9+I9 -> 134102 | L9: =D9+H9+J9 -> 455966.68 | M9: =L9*100/'CD Ratio_3(i)'!F9 -> 22.519709
A10: 5 | B10: Central Bank of India | C10: 330084 | D10: 830631.83 | E10: 275406 | F10: 635557.96 | G10: 1557 | H10: 63594.98 | I10: 2807 | J10: 77124.19 | K10: =C10+G10+I10 -> 334448 | L10: =D10+H10+J10 -> 971351 | M10: =L10*100/'CD Ratio_3(i)'!F10 -> 28.626281
A11: 6 | B11: Indian Bank | C11: 81872 | D11: 176063.68 | E11: 72310 | F11: 152835.58 | G11: 288 | H11: 5407.06 | I11: 491 | J11: 28594.86 | K11: =C11+G11+I11 -> 82651 | L11: =D11+H11+J11 -> 210065.6 | M11: =L11*100/'CD Ratio_3(i)'!F11 -> 15.64616
A12: 7 | B12: Indian Overseas Bank | C12: 8043 | D12: =393+24275.98 -> 24668.98 | E12: 5103 | F12: 15232.98 | G12: 32 | H12: 322.5 | I12: 244 | J12: 8606.26 | K12: =C12+G12+I12 -> 8319 | L12: =D12+H12+J12 -> 33597.74 | M12: =L12*100/'CD Ratio_3(i)'!F12 -> 6.7898013
A13: 8 | B13: Punjab and Sind Bank | C13: 7660 | D13: 27850.81 | E13: 5110 | F13: 9931.35 | G13: 12 | H13: 755.28 | I13: 366 | J13: 10576.39 | K13: =C13+G13+I13 -> 8038 | L13: =D13+H13+J13 -> 39182.48 | M13: =L13*100/'CD Ratio_3(i)'!F13 -> 21.351634
A14: 9 | B14: Punjab National Bank | C14: 236745 | D14: 528215.32 | E14: 207226 | F14: 469041.37 | G14: 692 | H14: 32875.25 | I14: 3923 | J14: 183320.4 | K14: =C14+G14+I14 -> 241360 | L14: =D14+H14+J14 -> 744410.97 | M14: =L14*100/'CD Ratio_3(i)'!F14 -> 18.749769
A15: 10 | B15: State Bank of India | C15: 627579 | D15: 1864473.6 | E15: 508065 | F15: 1295252.6 | G15: 1157 | H15: 48206.09 | I15: 17074 | J15: 333140.01 | K15: =C15+G15+I15 -> 645810 | L15: =D15+H15+J15 -> 2245819.7 | M15: =L15*100/'CD Ratio_3(i)'!F15 -> 16.760977
A16: 11 | B16: UCO Bank | C16: 57170 | D16: =63590+112252.94 -> 175842.94 | E16: 12088 | F16: 57356.6 | G16: 1221 | H16: 17307.95 | I16: 28603 | J16: 187482.14 | K16: =C16+G16+I16 -> 86994 | L16: =D16+H16+J16 -> 380633.03 | M16: =L16*100/'CD Ratio_3(i)'!F16 -> 37.236727
A17: 12 | B17: Union Bank of India | C17: 215481 | D17: 612154.99 | E17: 185886 | F17: 548338.36 | G17: 521 | H17: 11640.75 | I17: 3495 | J17: 124157.32 | K17: =C17+G17+I17 -> 219497 | L17: =D17+H17+J17 -> 747953.06 | M17: =L17*100/'CD Ratio_3(i)'!F17 -> 30.902967
B18: PSBs - SUB TOTAL | C18: =SUM(C6:C17) -> 2506008 | D18: =SUM(D6:D17) -> 6775256.8 | E18: =SUM(E6:E17) -> 1882011 | F18: =SUM(F6:F17) -> 4805684.6 | G18: =SUM(G6:G17) -> 9515 | H18: =SUM(H6:H17) -> 322123.49 | I18: =SUM(I6:I17) -> 99739 | J18: =SUM(J6:J17) -> 1385942.3 | K18: =C18+G18+I18 -> 2615262 | L18: =D18+H18+J18 -> 8483322.6 | M18: =L18*100/'CD Ratio_3(i)'!F18 -> 23.415735
A19: 13 | B19: Axis Bank | C19: 148393 | D19: 280835.23 | E19: 32476 | F19: 174612.07 | G19: 113 | H19: 9417.15 | I19: 1862 | J19: 308577.87 | K19: =C19+G19+I19 -> 150368 | L19: =D19+H19+J19 -> 598830.25 | M19: =L19*100/'CD Ratio_3(i)'!F19 -> 21.999713
A20: 14 | B20: Bandhan Bank | C20: 141821 | D20: 109998.64 | E20: 2212 | F20: 25988.89 | G20: 0 | H20: 0 | I20: 4974 | J20: 12633.76 | K20: =C20+G20+I20 -> 146795 | L20: =D20+H20+J20 -> 122632.4 | M20: =L20*100/'CD Ratio_3(i)'!F20 -> 13.17756
A21: 15 | B21: Catholic Syrian Bank | C21: 1769 | D21: 6155.34 | E21: 0 | F21: 0 | G21: 0 | H21: 0 | I21: 11 | J21: 182.83 | K21: =C21+G21+I21 -> 1780 | L21: =D21+H21+J21 -> 6338.17 | M21: =L21*100/'CD Ratio_3(i)'!F21 -> 68.899593
A22: 16 | B22: City Union Bank | C22: 63 | D22: 51.57 | E22: 0 | F22: 0 | G22: 24 | H22: 1912.19 | I22: 124 | J22: 7547.95 | K22: =C22+G22+I22 -> 211 | L22: =D22+H22+J22 -> 9511.71 | M22: =L22*100/'CD Ratio_3(i)'!F22 -> 43.694553
A23: 17 | B23: Development Credit Bank | C23: 50502 | D23: 94194.03 | E23: 19264 | F23: 43960.74 | G23: 10 | H23: 151.05 | I23: 1966 | J23: 53244.14 | K23: =C23+G23+I23 -> 52478 | L23: =D23+H23+J23 -> 147589.22 | M23: =L23*100/'CD Ratio_3(i)'!F23 -> 49.184625
A24: 18 | B24: Dhan Lakshmi Bank | C24: 0 | D24: 0 | E24: 0 | F24: 0 | G24: 0 | H24: 0 | I24: 11 | J24: 116.08 | K24: =C24+G24+I24 -> 11 | L24: =D24+H24+J24 -> 116.08 | M24: =L24*100/'CD Ratio_3(i)'!F24 -> 10.060931
A25: 19 | B25: Federal Bank Ltd. | C25: 6133 | D25: 28540.71 | E25: 422 | F25: 2039.33 | G25: 27 | H25: 257.1 | I25: 722 | J25: 4643.7 | K25: =C25+G25+I25 -> 6882 | L25: =D25+H25+J25 -> 33441.51 | M25: =L25*100/'CD Ratio_3(i)'!F25 -> 28.243059
A26: 20 | B26: HDFC Bank | C26: 360632 | D26: 1090148.7 | E26: 76593 | F26: 438513.3 | G26: 380 | H26: 12861.14 | I26: 6221 | J26: 422652.67 | K26: =C26+G26+I26 -> 367233 | L26: =D26+H26+J26 -> 1525662.5 | M26: =L26*100/'CD Ratio_3(i)'!F26 -> 19.52533
A27: 21 | B27: ICICI Bank | C27: 118646 | D27: 610568.18 | E27: 65990 | F27: 382090.02 | G27: 14 | H27: 431.88 | I27: 3639 | J27: 272902.53 | K27: =C27+G27+I27 -> 122299 | L27: =D27+H27+J27 -> 883902.59 | M27: =L27*100/'CD Ratio_3(i)'!F27 -> 19.546065
A28: 22 | B28: IDBI Bank | C28: 21613 | D28: 66318.63 | E28: 11157 | F28: 10986.96 | G28: 1185 | H28: 17069.25 | I28: 8610 | J28: 73799.84 | K28: =C28+G28+I28 -> 31408 | L28: =D28+H28+J28 -> 157187.72 | M28: =L28*100/'CD Ratio_3(i)'!F28 -> 25.003622
A29: 23 | B29: IDFC First Bank | C29: 145844 | D29: 247840.51 | E29: 8293 | F29: 132493.21 | G29: 0 | H29: 0 | I29: 135 | J29: 18044.14 | K29: =C29+G29+I29 -> 145979 | L29: =D29+H29+J29 -> 265884.65 | M29: =L29*100/'CD Ratio_3(i)'!F29 -> 24.290027
A30: 24 | B30: Indusind Bank Limited | C30: 356058 | D30: 442833.33 | E30: 26807 | F30: 219501.02 | G30: 9 | H30: 615.41 | I30: 5 | J30: 685.12 | K30: =C30+G30+I30 -> 356072 | L30: =D30+H30+J30 -> 444133.86 | M30: =L30*100/'CD Ratio_3(i)'!F30 -> 43.502052
... A39: 33 | B39: Yes Bank | C39: 94390 | D39: 118487.69 | E39: 5594 | F39: 55305.92 | G39: 27 | H39: 2428.46 | I39: 321 | J39: 48397.28 | K39: =C39+G39+I39 -> 94738 | L39: =D39+H39+J39 -> 169313.43 | M39: =L39*100/'CD Ratio_3(i)'!F39 -> 24.02813
B40: PRIVATE BANK SUB TOTAL | C40: =SUM(C19:C39) -> 1809337 | D40: =SUM(D19:D39) -> 3549096.4 | E40: =SUM(E19:E39) -> 254990 | F40: =SUM(F19:F39) -> 1511284.5 | G40: =SUM(G19:G39) -> 1877 | H40: =SUM(H19:H39) -> 54105.91 | I40: =SUM(I19:I39) -> 30314 | J40: =SUM(J19:J39) -> 1366673.4 | ... L40: =SUM(L19:L39) -> 4969875.7 | M40: =L40*100/'CD Ratio_3(i)'!F40 -> 23.046715
B41: COMMERCIAL BANKS SUB TOTAL | C41: =C40+C18 -> 4315345 | D41: =D40+D18 -> 10324353 | E41: =E40+E18 -> 2137001 | F41: =F40+F18 -> 6316969.2 | G41: =G40+G18 -> 11392 | H41: =H40+H18 -> 376229.4 | I41: =I40+I18 -> 130053 | J41: =J40+J18 -> 2752615.7 | ... L41: =L40+L18 -> 13453198 | M41: =L41*100/'CD Ratio_3(i)'!F41 -> 23.278044
A42: 34 | B42: MPGB | C42: 778147 | D42: 1223592.3 | E42: 618626 | F42: 947132.32 | G42: 515 | H42: 16240.83 | I42: 1924 | J42: 8305.8 | K42: =C42+G42+I42 -> 780586 | L42: =D42+H42+J42 -> 1248139 | M42: =L42*100/'CD Ratio_3(i)'!F42 -> 50.645874
B43: RRBs - SUB TOTAL | C43: =SUM(C42:C42) -> 778147 | D43: =SUM(D42:D42) -> 1223592.3 | E43: =SUM(E42:E42) -> 618626 | F43: =SUM(F42:F42) -> 947132.32 | G43: =SUM(G42:G42) -> 515 | H43: =SUM(H42:H42) -> 16240.83 | I43: =SUM(I42:I42) -> 1924 | J43: =SUM(J42:J42) -> 8305.8 | K43: =C43+G43+I43 -> 780586 | L43: =D43+H43+J43 -> 1248139 | M43: =L43*100/'CD Ratio_3(i)'!F43 -> 50.645874
A44: 35 | B44: DCCB & Apex Bank | C44: 4185919 | D44: 4388340.3 | E44: 4160118 | F44: 4198404.7 | G44: 334 | H44: 1330.05 | I44: 2 | J44: 23.01 | K44: =C44+G44+I44 -> 4186255 | L44: =D44+H44+J44 -> 4389693.4 | M44: =L44*100/'CD Ratio_3(i)'!F44 -> 91.386816
B45: CO-OPERATIVE BANK - SUB TOTAL | C45: =C44 -> 4185919 | D45: =D44 -> 4388340.3 | E45: =E44 -> 4160118 | F45: =F44 -> 4198404.7 | G45: =G44 -> 334 | H45: =H44 -> 1330.05 | I45: =I44 -> 2 | J45: =J44 -> 23.01 | K45: =C45+G45+I45 -> 4186255 | L45: =D45+H45+J45 -> 4389693.4 | M45: =M44 -> 91.386816
A46: 36 | B46: AU Small Finance Bank | C46: 228707 | D46: 226233 | E46: 1 | F46: 1.92 | G46: 144 | H46: 7027.9 | I46: 1247 | J46: 28507.59 | K46: =C46+G46+I46 -> 230098 | L46: =D46+H46+J46 -> 261768.49 | M46: =L46*100/'CD Ratio_3(i)'!F46 -> 15.491054
A47: 37 | B47: Equitas Small Finance Bank | C47: 44268 | D47: 24032.57 | E47: 0 | F47: 0 | G47: 0 | H47: 0 | I47: 8410 | J47: 54855.09 | K47: =C47+G47+I47 -> 52678 | L47: =D47+H47+J47 -> 78887.66 | M47: =L47*100/'CD Ratio_3(i)'!F47 -> 58.686373
A48: 38 | B48: ESAF | C48: 130061 | D48: 80066.64 | E48: 262 | F48: 1317.68 | G48: 0 | H48: 0 | I48: 0 | J48: 0 | K48: =C48+G48+I48 -> 130061 | L48: =D48+H48+J48 -> 80066.64 | M48: =L48*100/'CD Ratio_3(i)'!F48 -> 62.815574
...

Sheet MSMEoutstanding_5
A1: MSME (PRIORITY SECTOR) OUTSTANDING AS ON 30.06.2026
B2: Amt. in Lakh | I2: No. in actual | L2: TABLE:5
A3: Sr. | B3: Banks | C3: Outstanding at the end of quarter 30.06.2026 | O3: % of Micro credit to total advances
C4: Micro | E4: Small | G4: Medium | I4: KVIC | K4: Other MSME | M4: Total
C5: No | D5: Amt | E5: No | F5: Amt | G5: No | H5: Amt | I5: No | J5: Amt | K5: No | L5: Amt | M5: No | N5: Amt
A6: 1 | B6: Bank of Baroda | C6: 114647 | D6: 482324.95 | E6: 1163 | F6: 155086.36 | G6: 294 | H6: 91289.17 | I6: 0 | J6: 0 | K6: 0 | L6: 0 | M6: =C6+E6+G6+I6+K6 -> 116104 | N6: =D6+F6+H6+J6+L6 -> 728700.48 | O6: =D6*100/'CD Ratio_3(i)'!F6 -> 18.798838
A7: 2 | B7: Bank of India | C7: 210672 | D7: 439060.05 | E7: 1584 | F7: 208770.92 | G7: 933 | H7: 65762.3 | I7: 0 | J7: 0 | K7: 0 | L7: 0 | M7: =C7+E7+G7+I7+K7 -> 213189 | N7: =D7+F7+H7+J7+L7 -> 713593.27 | O7: =D7*100/'CD Ratio_3(i)'!F7 -> 10.145637
A8: 3 | B8: Bank of Maharashtra | C8: 19183 | D8: 158295 | E8: 577 | F8: 106880.72 | G8: 47 | H8: 48381.29 | I8: 0 | J8: 0 | K8: 6 | L8: 44.91 | M8: =C8+E8+G8+I8+K8 -> 19813 | N8: =D8+F8+H8+J8+L8 -> 313601.92 | O8: =D8*100/'CD Ratio_3(i)'!F8 -> 14.588061
A9: 4 | B9: Canara Bank | C9: 60777 | D9: 277305.59 | E9: 2402 | F9: 106173.29 | G9: 108 | H9: 32602.11 | I9: 0 | J9: 0 | K9: 671 | L9: 1766.46 | M9: =C9+E9+G9+I9+K9 -> 63958 | N9: =D9+F9+H9+J9+L9 -> 417847.45 | O9: =D9*100/'CD Ratio_3(i)'!F9 -> 13.695828
A10: 5 | B10: Central Bank of India | C10: 107404 | D10: 543356.67 | E10: 2643 | F10: 218973.61 | G10: 111 | H10: 56301.66 | I10: 0 | J10: 0 | K10: 4069 | L10: 46308.11 | M10: =C10+E10+G10+I10+K10 -> 114227 | N10: =D10+F10+H10+J10+L10 -> 864940.05 | O10: =D10*100/'CD Ratio_3(i)'!F10 -> 16.013038
A11: 6 | B11: Indian Bank | C11: 24218 | D11: 196299.43 | E11: 594 | F11: 66550.38 | G11: 68 | H11: 30145.13 | I11: 0 | J11: 0 | K11: 0 | L11: 0 | M11: =C11+E11+G11+I11+K11 -> 24880 | N11: =D11+F11+H11+J11+L11 -> 292994.94 | O11: =D11*100/'CD Ratio_3(i)'!F11 -> 14.620825
A12: 7 | B12: Indian Overseas Bank | C12: 11345 | D12: 46280 | E12: 88 | F12: 11071.7 | G12: 5 | H12: 1017.99 | I12: 0 | J12: 0 | K12: 0 | L12: 0 | M12: =C12+E12+G12+I12+K12 -> 11438 | N12: =D12+F12+H12+J12+L12 -> 58369.69 | O12: =D12*100/'CD Ratio_3(i)'!F12 -> 9.352772
A13: 8 | B13: Punjab and Sind Bank | C13: 3611 | D13: 45208.87 | E13: 125 | F13: 33761.42 | G13: 21 | H13: 7878.72 | I13: 0 | J13: 0 | K13: 0 | L13: 0 | M13: =C13+E13+G13+I13+K13 -> 3757 | N13: =D13+F13+H13+J13+L13 -> 86849.01 | O13: =D13*100/'CD Ratio_3(i)'!F13 -> 24.635583
A14: 9 | B14: Punjab National Bank | C14: 98059 | D14: 440742.69 | E14: 3763 | F14: 209130.51 | G14: 287 | H14: 96194.21 | I14: 0 | J14: 0 | K14: 0 | L14: 0 | M14: =C14+E14+G14+I14+K14 -> 102109 | N14: =D14+F14+H14+J14+L14 -> 746067.41 | O14: =D14*100/'CD Ratio_3(i)'!F14 -> 11.101158
A15: 10 | B15: State Bank of India | C15: 100649 | D15: 1297580.8 | E15: 5448 | F15: 418548.08 | G15: 829 | H15: 314776.6 | I15: 0 | J15: 0 | K15: 58744 | L15: 99448.58 | M15: =C15+E15+G15+I15+K15 -> 165670 | N15: =D15+F15+H15+J15+L15 -> 2130354.1 | O15: =D15*100/'CD Ratio_3(i)'!F15 -> 9.684091
A16: 11 | B16: UCO Bank | C16: 285 | D16: 70142.97 | E16: 9 | F16: 1087.14 | G16: 3 | H16: 1142.75 | I16: 0 | J16: 0 | K16: 0 | L16: 0 | M16: =C16+E16+G16+I16+K16 -> 297 | N16: =D16+F16+H16+J16+L16 -> 72372.86 | O16: =D16*100/'CD Ratio_3(i)'!F16 -> 6.8619757
A17: 12 | B17: Union Bank of India | C17: 72587 | D17: 371686.71 | E17: 1407 | F17: 176455.84 | G17: 202 | H17: 89015.91 | I17: 0 | J17: 0 | K17: 0 | L17: 0 | M17: =C17+E17+G17+I17+K17 -> 74196 | N17: =D17+F17+H17+J17+L17 -> 637158.46 | O17: =D17*100/'CD Ratio_3(i)'!F17 -> 15.356876
B18: PSBs - SUB TOTAL | C18: =SUM(C6:C17) -> 823437 | D18: =SUM(D6:D17) -> 4368283.8 | E18: =SUM(E6:E17) -> 19803 | F18: =SUM(F6:F17) -> 1712490 | G18: =SUM(G6:G17) -> 2908 | H18: =SUM(H6:H17) -> 834507.84 | I18: =SUM(I6:I17) -> 0 | J18: =SUM(J6:J17) -> 0 | ... L18: =SUM(L6:L17) -> 147568.06 | M18: =C18+E18+G18+I18+K18 -> 909638 | N18: =D18+F18+H18+J18+L18 -> 7062849.6 | O18: =D18*100/'CD Ratio_3(i)'!F18 -> 12.057372
A19: 13 | B19: Axis Bank | C19: 16947 | D19: 394425.91 | E19: 2571 | F19: 308262.83 | G19: 407 | H19: 163546.93 | I19: 0 | J19: 0 | K19: 0 | L19: 0 | M19: =C19+E19+G19+I19+K19 -> 19925 | N19: =D19+F19+H19+J19+L19 -> 866235.67 | O19: =D19*100/'CD Ratio_3(i)'!F19 -> 14.490345
A20: 14 | B20: Bandhan Bank | C20: 90181 | D20: 83329 | E20: 336 | F20: 32213.9 | G20: 42 | H20: 3413.41 | I20: 0 | J20: 0 | K20: 0 | L20: 0 | M20: =C20+E20+G20+I20+K20 -> 90559 | N20: =D20+F20+H20+J20+L20 -> 118956.31 | O20: =D20*100/'CD Ratio_3(i)'!F20 -> 8.9541827
A21: 15 | B21: Catholic Syrian Bank | C21: 7 | D21: 219.91 | E21: 0 | F21: 0 | G21: 0 | H21: 0 | I21: 0 | J21: 0 | K21: 0 | L21: 0 | M21: =C21+E21+G21+I21+K21 -> 7 | N21: =D21+F21+H21+J21+L21 -> 219.91 | O21: =D21*100/'CD Ratio_3(i)'!F21 -> 2.3905496
A22: 16 | B22: City Union Bank | C22: 24 | D22: 4877.21 | E22: 1 | F22: 1649.53 | G22: 0 | H22: 0 | I22: 0 | J22: 0 | K22: 0 | L22: 0 | M22: =C22+E22+G22+I22+K22 -> 25 | N22: =D22+F22+H22+J22+L22 -> 6526.74 | O22: 0
A23: 17 | B23: Development Credit Bank | C23: 57 | D23: 2504.26 | E23: 5 | F23: 165.87 | G23: 0 | H23: 0 | I23: 0 | J23: 0 | K23: 0 | L23: 0 | M23: =C23+E23+G23+I23+K23 -> 62 | N23: =D23+F23+H23+J23+L23 -> 2670.13 | O23: =D23*100/'CD Ratio_3(i)'!F23 -> 0.83455343
A24: 18 | B24: Dhan Lakshmi Bank | C24: 0 | D24: 0 | E24: 0 | F24: 0 | G24: 0 | H24: 0 | I24: 0 | J24: 0 | K24: 0 | L24: 0 | M24: =C24+E24+G24+I24+K24 -> 0 | N24: =D24+F24+H24+J24+L24 -> 0 | O24: =D24*100/'CD Ratio_3(i)'!F24 -> 0
A25: 19 | B25: Federal Bank Ltd. | C25: 151 | D25: 9117.48 | E25: 60 | F25: 5610.02 | G25: 0 | H25: 0 | I25: 0 | J25: 0 | K25: 0 | L25: 0 | M25: =C25+E25+G25+I25+K25 -> 211 | N25: =D25+F25+H25+J25+L25 -> 14727.5 | O25: =D25*100/'CD Ratio_3(i)'!F25 -> 7.7001763
A26: 20 | B26: HDFC Bank | C26: 61429 | D26: 1199261.2 | E26: 13415 | F26: 857821.43 | G26: 2980 | H26: 509565.07 | I26: 0 | J26: 0 | K26: 0 | L26: 0 | M26: =C26+E26+G26+I26+K26 -> 77824 | N26: =D26+F26+H26+J26+L26 -> 2566647.7 | O26: =D26*100/'CD Ratio_3(i)'!F26 -> 15.348067
A27: 21 | B27: ICICI Bank | C27: 27181 | D27: 946372.37 | E27: 7691 | F27: 577888.31 | G27: 1416 | H27: 162053.75 | I27: 0 | J27: 0 | K27: 0 | L27: 0 | M27: =C27+E27+G27+I27+K27 -> 36288 | N27: =D27+F27+H27+J27+L27 -> 1686314.4 | O27: =D27*100/'CD Ratio_3(i)'!F27 -> 20.927482
A28: 22 | B28: IDBI Bank | C28: 150 | D28: 24164.47 | E28: 8 | F28: 1135.8 | G28: 3 | H28: 11.09 | I28: 0 | J28: 0 | K28: 0 | L28: 0 | M28: =C28+E28+G28+I28+K28 -> 161 | N28: =D28+F28+H28+J28+L28 -> 25311.36 | O28: =D28*100/'CD Ratio_3(i)'!F28 -> 3.843807
A29: 23 | B29: IDFC First Bank | C29: 22984 | D29: 164016.23 | E29: 892 | F29: 44659.37 | G29: 232 | H29: 3630.38 | I29: 0 | J29: 0 | K29: 0 | L29: 0 | M29: =C29+E29+G29+I29+K29 -> 24108 | N29: =D29+F29+H29+J29+L29 -> 212305.98 | O29: =D29*100/'CD Ratio_3(i)'!F29 -> 14.983786
A30: 24 | B30: Indusind Bank Limited | C30: 79756 | D30: 190537.89 | E30: 1045 | F30: 36828.29 | G30: 161 | H30: 12405.88 | I30: 0 | J30: 0 | K30: 0 | L30: 0 | M30: =C30+E30+G30+I30+K30 -> 80962 | N30: =D30+F30+H30+J30+L30 -> 239772.06 | O30: =D30*100/'CD Ratio_3(i)'!F30 -> 18.662818
A31: 25 | B31: Jammu and Kashmir Bank | C31: 9 | D31: 164.95 | E31: 0 | F31: 0 | G31: 0 | H31: 0 | I31: 0 | J31: 0 | K31: 0 | L31: 0 | M31: =C31+E31+G31+I31+K31 -> 9 | N31: =D31+F31+H31+J31+L31 -> 164.95 | O31: =D31*100/'CD Ratio_3(i)'!F31 -> 3.2101307
A32: 26 | B32: Karnataka Bank Limited | C32: 19 | D32: 3250.29 | E32: 10 | F32: 997.08 | G32: 0 | H32: 0 | I32: 0 | J32: 0 | K32: 0 | L32: 0 | M32: =C32+E32+G32+I32+K32 -> 29 | N32: =D32+F32+H32+J32+L32 -> 4247.37 | O32: =D32*100/'CD Ratio_3(i)'!F32 -> 9.5748977
A33: 27 | B33: Karur Vysya Bank Ltd. | C33: 46 | D33: 8850.82 | E33: 6 | F33: 2320.22 | G33: 0 | H33: 0 | I33: 0 | J33: 0 | K33: 0 | L33: 0 | M33: =C33+E33+G33+I33+K33 -> 52 | N33: =D33+F33+H33+J33+L33 -> 11171.04 | O33: =D33*100/'CD Ratio_3(i)'!F33 -> 26.346651
A34: 28 | B34: Kotak Mahindra Bank | C34: 10774 | D34: 254442.02 | E34: 3275 | F34: 181400.5 | G34: 848 | H34: 104760.57 | I34: 0 | J34: 0 | K34: 0 | L34: 0 | M34: =C34+E34+G34+I34+K34 -> 14897 | N34: =D34+F34+H34+J34+L34 -> 540603.09 | O34: =D34*100/'CD Ratio_3(i)'!F34 -> 18.242931
... A39: 33 | B39: Yes Bank | C39: 4357 | D39: 121297.93 | E39: 1209 | F39: 74508.88 | G39: 228 | H39: 38040.33 | I39: 0 | J39: 0 | K39: 0 | L39: 0 | M39: =C39+E39+G39+I39+K39 -> 5794 | N39: =D39+F39+H39+J39+L39 -> 233847.14 | O39: =D39*100/'CD Ratio_3(i)'!F39 -> 17.214006
B40: PRIVATE BANK SUB TOTAL | C40: =SUM(C19:C39) -> 314362 | D40: =SUM(D19:D39) -> 3420298.9 | E40: =SUM(E19:E39) -> 30568 | F40: =SUM(F19:F39) -> 2130499.9 | G40: =SUM(G19:G39) -> 6323 | H40: =SUM(H19:H39) -> 1000955.1 | I40: =SUM(I19:I39) -> 0 | J40: =SUM(J19:J39) -> 0 | ... N40: =SUM(N19:N39) -> 6551753.9 | O40: =D40*100/'CD Ratio_3(i)'!F40 -> 15.860891
B41: COMMERCIAL BANKS SUB TOTAL | C41: =C40+C18 -> 1137799 | D41: =D40+D18 -> 7788582.7 | E41: =E40+E18 -> 50371 | F41: =F40+F18 -> 3842989.9 | G41: =G40+G18 -> 9231 | H41: =H40+H18 -> 1835462.9 | I41: =I40+I18 -> 0 | J41: =J40+J18 -> 0 | ... N41: =N40+N18 -> 13614604 | O41: =D41*100/'CD Ratio_3(i)'!F41 -> 13.47657
A42: 34 | B42: MPGB | C42: 244159 | D42: 373158.74 | E42: 22 | F42: 5484.51 | G42: 0 | H42: 0 | I42: 0 | J42: 0 | K42: 0 | L42: 0 | M42: =C42+E42+G42+I42+K42 -> 244181 | N42: =D42+F42+H42+J42+L42 -> 378643.25 | O42: =D42*100/'CD Ratio_3(i)'!F42 -> 15.141704
B43: RRBs - SUB TOTAL | C43: =SUM(C42:C42) -> 244159 | D43: =SUM(D42:D42) -> 373158.74 | E43: =SUM(E42:E42) -> 22 | F43: =SUM(F42:F42) -> 5484.51 | G43: =SUM(G42:G42) -> 0 | H43: =SUM(H42:H42) -> 0 | I43: =SUM(I42:I42) -> 0 | J43: =SUM(J42:J42) -> 0 | ... L43: =SUM(L42:L42) -> 0 | M43: =C43+E43+G43+I43+K43 -> 244181 | N43: =D43+F43+H43+J43+L43 -> 378643.25 | O43: =D43*100/'CD Ratio_3(i)'!F43 -> 15.141704
A44: 35 | B44: DCCB & Apex Bank | C44: 0 | D44: 0 | E44: 0 | F44: 0 | G44: 0 | H44: 0 | I44: 0 | J44: 0 | K44: 0 | L44: 0 | M44: =C44+E44+G44+I44+K44 -> 0 | N44: =D44+F44+H44+J44+L44 -> 0 | O44: =D44*100/'CD Ratio_3(i)'!F44 -> 0
...

Sheet Pri Sec_outstanding_6
A1: PRIORITY SECTOR OUTSTANDING AS ON 30.06.2026
B2: Amt. in Lakhs | K2: Number in Actual | N2: TABLE:6
A3: Sr. | B3: Banks | C3: Outstanding at the end of quarter 30.06.2026 | Q3: % of Total Pri Sec loans to total advances
C4: Export Credit | E4: Education | G4: Housing | I4: Social Infra | K4: Renewable Energy | M4: Others | O4: Total Priority Sector
C5: No | D5: Amt | E5: No | F5: Amt | G5: No | H5: Amt | I5: No | J5: Amt | K5: No | L5: Amt | M5: No | N5: Amt | O5: No | P5: Amt
A6: 1 | B6: Bank of Baroda | C6: 0 | D6: 0 | E6: 4486 | F6: 21835.2 | G6: 34226 | H6: 210498.11 | I6: 6 | J6: 167.61 | K6: 61 | L6: 2762.73 | M6: 2460 | N6: 3757.54 | O6: =M6+K6+I6+G6+E6+C6+MSMEoutstanding_5!M6+OutstandingAgri_4!K6 -> 284213 | P6: =N6+L6+J6+H6+F6+D6+MSMEoutstanding_5!N6+OutstandingAgri_4!L6 -> 1476649.2 | Q6: =P6*100/'CD Ratio_3(i)'!F6 -> 57.553088 | R6: 133.65 | S6: =J6-R6 -> 33.96
A7: 2 | B7: Bank of India | C7: 2 | D7: 0 | E7: 7082 | F7: 20512.14 | G7: 52886 | H7: 217063.89 | I7: 99 | J7: 608.93 | K7: 1 | L7: 0 | M7: 27 | N7: 2.3 | O7: =M7+K7+I7+G7+E7+C7+MSMEoutstanding_5!M7+OutstandingAgri_4!K7 -> 936392 | P7: =N7+L7+J7+H7+F7+D7+MSMEoutstanding_5!N7+OutstandingAgri_4!L7 -> 2820562.6 | Q7: =P7*100/'CD Ratio_3(i)'!F7 -> 65.176515 | R7: 0 | S7: =J7-R7 -> 608.93
A8: 3 | B8: Bank of Maharashtra | C8: 1 | D8: 28.54 | E8: 1635 | F8: 6941.13 | G8: 10615 | H8: 97650.02 | I8: 0 | J8: 0 | K8: 896 | L8: 1477.1 | M8: 1 | N8: 6358.26 | O8: =M8+K8+I8+G8+E8+C8+MSMEoutstanding_5!M8+OutstandingAgri_4!K8 -> 97028 | P8: =N8+L8+J8+H8+F8+D8+MSMEoutstanding_5!N8+OutstandingAgri_4!L8 -> 702689.74 | Q8: =P8*100/'CD Ratio_3(i)'!F8 -> 64.758083 | R8: 0 | S8: =J8-R8 -> 0
A9: 4 | B9: Canara Bank | C9: 0 | D9: 0 | E9: 5379 | F9: 21767.36 | G9: 19629 | H9: 168498.84 | I9: 1 | J9: 0.09 | K9: 2108 | L9: 3043.13 | M9: 110 | N9: 42.25 | O9: =M9+K9+I9+G9+E9+C9+MSMEoutstanding_5!M9+OutstandingAgri_4!K9 -> 225287 | P9: =N9+L9+J9+H9+F9+D9+MSMEoutstanding_5!N9+OutstandingAgri_4!L9 -> 1067165.8 | Q9: =P9*100/'CD Ratio_3(i)'!F9 -> 52.706184 | R9: 8.81 | S9: =J9-R9 -> -8.72
A10: 5 | B10: Central Bank of India | C10: 0 | D10: 0 | E10: 5997 | F10: 26414.72 | G10: 89915 | H10: 230416.46 | I10: 7 | J10: 244.5 | K10: 0 | L10: 0 | M10: 403 | N10: 149.48 | O10: =M10+K10+I10+G10+E10+C10+MSMEoutstanding_5!M10+OutstandingAgri_4!K10 -> 544997 | P10: =N10+L10+J10+H10+F10+D10+MSMEoutstanding_5!N10+OutstandingAgri_4!L10 -> 2093516.2 | Q10: =P10*100/'CD Ratio_3(i)'!F10 -> 61.697146 | R10: 435.71 | S10: =J10-R10 -> -191.21
A11: 6 | B11: Indian Bank | C11: 0 | D11: 0 | E11: 867 | F11: 3727.49 | G11: 4579 | H11: 48903.68 | I11: 0 | J11: 0 | K11: 846 | L11: 1266.77 | M11: 0 | N11: 0 | O11: =M11+K11+I11+G11+E11+C11+MSMEoutstanding_5!M11+OutstandingAgri_4!K11 -> 113823 | P11: =N11+L11+J11+H11+F11+D11+MSMEoutstanding_5!N11+OutstandingAgri_4!L11 -> 556958.48 | Q11: =P11*100/'CD Ratio_3(i)'!F11 -> 41.483526 | R11: 0 | S11: =J11-R11 -> 0
A12: 7 | B12: Indian Overseas Bank | C12: 0 | D12: 0 | E12: 290 | F12: 1006.4 | G12: 4565 | H12: 37118.89 | I12: 0 | J12: 0 | K12: 231 | L12: 392.93 | M12: 308 | N12: 1870.01 | O12: =M12+K12+I12+G12+E12+C12+MSMEoutstanding_5!M12+OutstandingAgri_4!K12 -> 25151 | P12: =N12+L12+J12+H12+F12+D12+MSMEoutstanding_5!N12+OutstandingAgri_4!L12 -> 132355.66 | Q12: =P12*100/'CD Ratio_3(i)'!F12 -> 26.747889 | R12: 0 | S12: =J12-R12 -> 0
A13: 8 | B13: Punjab and Sind Bank | C13: 0 | D13: 0 | E13: 147 | F13: 502.22 | G13: 868 | H13: 7167.48 | I13: 2 | J13: 11.58 | K13: 109 | L13: 176.89 | M13: 321 | N13: 53.25 | O13: =M13+K13+I13+G13+E13+C13+MSMEoutstanding_5!M13+OutstandingAgri_4!K13 -> 13242 | P13: =N13+L13+J13+H13+F13+D13+MSMEoutstanding_5!N13+OutstandingAgri_4!L13 -> 133942.91 | Q13: =P13*100/'CD Ratio_3(i)'!F13 -> 72.989255 | R13: 22.86 | S13: =J13-R13 -> -11.28
A14: 9 | B14: Punjab National Bank | C14: 0 | D14: 0 | E14: 6436 | F14: 25438.4 | G14: 49131 | H14: 190512.57 | I14: 0 | J14: 0 | K14: 4390 | L14: 6391.88 | M14: 1525 | N14: 227.25 | O14: =M14+K14+I14+G14+E14+C14+MSMEoutstanding_5!M14+OutstandingAgri_4!K14 -> 404951 | P14: =N14+L14+J14+H14+F14+D14+MSMEoutstanding_5!N14+OutstandingAgri_4!L14 -> 1713048.5 | Q14: =P14*100/'CD Ratio_3(i)'!F14 -> 43.147219 | R14: 0.64 | S14: =J14-R14 -> -0.64
A15: 10 | B15: State Bank of India | C15: 1 | D15: 7.79 | E15: 27036 | F15: 116755.39 | G15: 192498 | H15: 1158031.4 | I15: 23 | J15: 111.69 | K15: 58701 | L15: 98817.17 | M15: 0 | N15: 0 | O15: =M15+K15+I15+G15+E15+C15+MSMEoutstanding_5!M15+OutstandingAgri_4!K15 -> 1089739 | P15: =N15+L15+J15+H15+F15+D15+MSMEoutstanding_5!N15+OutstandingAgri_4!L15 -> 5749897.2 | Q15: =P15*100/'CD Ratio_3(i)'!F15 -> 42.912569 | R15: 407.21 | S15: =J15-R15 -> -295.52
A16: 11 | B16: UCO Bank | C16: 3 | D16: 0 | E16: 1167 | F16: 3835.24 | G16: 8720 | H16: 103374.66 | I16: 0 | J16: 0 | K16: 2 | L16: 531.75 | M16: 2740 | N16: 9612.26 | O16: =M16+K16+I16+G16+E16+C16+MSMEoutstanding_5!M16+OutstandingAgri_4!K16 -> 99923 | P16: =N16+L16+J16+H16+F16+D16+MSMEoutstanding_5!N16+OutstandingAgri_4!L16 -> 570359.8 | Q16: =P16*100/'CD Ratio_3(i)'!F16 -> 55.797396 | R16: 6308.35 | S16: =J16-R16 -> -6308.35
A17: 12 | B17: Union Bank of India | C17: 0 | D17: 0 | E17: 4254 | F17: 16102.38 | G17: 28867 | H17: 90054.54 | I17: 50 | J17: 716.78 | K17: 16 | L17: 3143.5 | M17: 1132 | N17: 15.3 | O17: =M17+K17+I17+G17+E17+C17+MSMEoutstanding_5!M17+OutstandingAgri_4!K17 -> 328012 | P17: =N17+L17+J17+H17+F17+D17+MSMEoutstanding_5!N17+OutstandingAgri_4!L17 -> 1495144 | Q17: =P17*100/'CD Ratio_3(i)'!F17 -> 61.774447 | R17: 438.82 | S17: =J17-R17 -> 277.96
B18: PSBs - SUB TOTAL | C18: =SUM(C6:C17) -> 7 | D18: =SUM(D6:D17) -> 36.33 | E18: =SUM(E6:E17) -> 64776 | F18: =SUM(F6:F17) -> 264838.07 | G18: =SUM(G6:G17) -> 496499 | H18: =SUM(H6:H17) -> 2559290.5 | I18: =SUM(I6:I17) -> 188 | J18: =SUM(J6:J17) -> 1861.18 | ... N18: =SUM(N6:N17) -> 22087.9 | O18: =M18+K18+I18+G18+E18+C18+MSMEoutstanding_5!M18+OutstandingAgri_4!K18 -> 4162758 | P18: =N18+L18+J18+H18+F18+D18+MSMEoutstanding_5!N18+OutstandingAgri_4!L18 -> 18512290 | Q18: =P18*100/'CD Ratio_3(i)'!F18 -> 51.097772 | R18: 7756.05 | S18: =J18-R18 -> -5894.87
A19: 13 | B19: Axis Bank | C19: 0 | D19: 0 | E19: 936 | F19: 4922.06 | G19: 6084 | H19: 68990.06 | I19: 0 | J19: 0 | K19: 0 | L19: 0 | M19: 40100 | N19: 10347.23 | O19: =M19+K19+I19+G19+E19+C19+MSMEoutstanding_5!M19+OutstandingAgri_4!K19 -> 217413 | P19: =N19+L19+J19+H19+F19+D19+MSMEoutstanding_5!N19+OutstandingAgri_4!L19 -> 1549325.3 | Q19: =P19*100/'CD Ratio_3(i)'!F19 -> 56.91882 | R19: 0 | S19: =J19-R19 -> 0
A20: 14 | B20: Bandhan Bank | C20: 0 | D20: 0 | E20: 0 | F20: 0 | G20: 37140 | H20: 325545.69 | I20: 0 | J20: 0 | K20: 0 | L20: 0 | M20: 39229 | N20: 7438.24 | O20: =M20+K20+I20+G20+E20+C20+MSMEoutstanding_5!M20+OutstandingAgri_4!K20 -> 313723 | P20: =N20+L20+J20+H20+F20+D20+MSMEoutstanding_5!N20+OutstandingAgri_4!L20 -> 574572.64 | Q20: =P20*100/'CD Ratio_3(i)'!F20 -> 61.741151 | R20: 0 | S20: =J20-R20 -> 0
A21: 15 | B21: Catholic Syrian Bank | C21: 0 | D21: 0 | E21: 0 | F21: 0 | G21: 4 | H21: 7.65 | I21: 0 | J21: 0 | K21: 0 | L21: 0 | M21: 0 | N21: 0 | O21: =M21+K21+I21+G21+E21+C21+MSMEoutstanding_5!M21+OutstandingAgri_4!K21 -> 1791 | P21: =N21+L21+J21+H21+F21+D21+MSMEoutstanding_5!N21+OutstandingAgri_4!L21 -> 6565.73 | Q21: =P21*100/'CD Ratio_3(i)'!F21 -> 71.373302 | R21: 0 | S21: =J21-R21 -> 0
A22: 16 | B22: City Union Bank | C22: 0 | D22: 0 | E22: 0 | F22: 0 | G22: 15 | H22: 164.56 | I22: 0 | J22: 0 | K22: 0 | L22: 0 | M22: 1 | N22: 0.25 | O22: =M22+K22+I22+G22+E22+C22+MSMEoutstanding_5!M22+OutstandingAgri_4!K22 -> 252 | P22: =N22+L22+J22+H22+F22+D22+MSMEoutstanding_5!N22+OutstandingAgri_4!L22 -> 16203.26 | Q22: 0 | R22: 0 | S22: =J22-R22 -> 0
A23: 17 | B23: Development Credit Bank | C23: 0 | D23: 0 | E23: 0 | F23: 0 | G23: 15628 | H23: 26511.62 | I23: 20 | J23: 2014.06 | K23: 0 | L23: 0 | M23: 5176 | N23: 338.91 | O23: =M23+K23+I23+G23+E23+C23+MSMEoutstanding_5!M23+OutstandingAgri_4!K23 -> 73364 | P23: =N23+L23+J23+H23+F23+D23+MSMEoutstanding_5!N23+OutstandingAgri_4!L23 -> 179123.94 | Q23: =P23*100/'CD Ratio_3(i)'!F23 -> 59.693681 | R23: 2779.58 | S23: =J23-R23 -> -765.52
A24: 18 | B24: Dhan Lakshmi Bank | C24: 0 | D24: 0 | E24: 3 | F24: 7.2 | G24: 29 | H24: 242.95 | I24: 0 | J24: 0 | K24: 2 | L24: 3.63 | M24: 0 | N24: 0 | O24: =M24+K24+I24+G24+E24+C24+MSMEoutstanding_5!M24+OutstandingAgri_4!K24 -> 45 | P24: =N24+L24+J24+H24+F24+D24+MSMEoutstanding_5!N24+OutstandingAgri_4!L24 -> 369.86 | Q24: =P24*100/'CD Ratio_3(i)'!F24 -> 32.056649 | R24: 0 | S24: =J24-R24 -> 0
A25: 19 | B25: Federal Bank Ltd. | C25: 0 | D25: 0 | E25: 5 | F25: 19.06 | G25: 134 | H25: 1302.73 | I25: 0 | J25: 0 | K25: 0 | L25: 0 | M25: 2 | N25: 0.03 | O25: =M25+K25+I25+G25+E25+C25+MSMEoutstanding_5!M25+OutstandingAgri_4!K25 -> 7234 | P25: =N25+L25+J25+H25+F25+D25+MSMEoutstanding_5!N25+OutstandingAgri_4!L25 -> 49490.83 | Q25: =P25*100/'CD Ratio_3(i)'!F25 -> 41.797527 | R25: 0 | S25: =J25-R25 -> 0
A26: 20 | B26: HDFC Bank | C26: 0 | D26: 0 | E26: 844 | F26: 1963.96 | G26: 49833 | H26: 619793.85 | I26: 1 | J26: 261.86 | K26: 5 | L26: 12.76 | M26: 8571 | N26: 1888.71 | O26: =M26+K26+I26+G26+E26+C26+MSMEoutstanding_5!M26+OutstandingAgri_4!K26 -> 504311 | P26: =N26+L26+J26+H26+F26+D26+MSMEoutstanding_5!N26+OutstandingAgri_4!L26 -> 4716231.4 | Q26: =P26*100/'CD Ratio_3(i)'!F26 -> 60.358024 | R26: 115.34 | S26: =J26-R26 -> 146.52
A27: 21 | B27: ICICI Bank | C27: 0 | D27: 0 | E27: 546 | F27: 5134.77 | G27: 6852 | H27: 68426.87 | I27: 0 | J27: 0 | K27: 3 | L27: 1119.55 | M27: 761 | N27: 288.87 | O27: =M27+K27+I27+G27+E27+C27+MSMEoutstanding_5!M27+OutstandingAgri_4!K27 -> 166749 | P27: =N27+L27+J27+H27+F27+D27+MSMEoutstanding_5!N27+OutstandingAgri_4!L27 -> 2645187.1 | Q27: =P27*100/'CD Ratio_3(i)'!F27 -> 58.494 | R27: 0 | S27: =J27-R27 -> 0
A28: 22 | B28: IDBI Bank | C28: 0 | D28: 0 | E28: 704 | F28: 3076.95 | G28: 5333 | H28: 66809.72 | I28: 7 | J28: 30.57 | K28: 18 | L28: 22.61 | M28: 1 | N28: 0 | O28: =M28+K28+I28+G28+E28+C28+MSMEoutstanding_5!M28+OutstandingAgri_4!K28 -> 37632 | P28: =N28+L28+J28+H28+F28+D28+MSMEoutstanding_5!N28+OutstandingAgri_4!L28 -> 252438.93 | Q28: =P28*100/'CD Ratio_3(i)'!F28 -> 40.155093 | R28: 38.98 | S28: =J28-R28 -> -8.41
A29: 23 | B29: IDFC First Bank | C29: 0 | D29: 0 | E29: 0 | F29: 0 | G29: 6359 | H29: 47233.41 | I29: 185 | J29: 12.84 | K29: 0 | L29: 0 | M29: 0 | N29: 0 | O29: =M29+K29+I29+G29+E29+C29+MSMEoutstanding_5!M29+OutstandingAgri_4!K29 -> 176631 | P29: =N29+L29+J29+H29+F29+D29+MSMEoutstanding_5!N29+OutstandingAgri_4!L29 -> 525436.88 | Q29: =P29*100/'CD Ratio_3(i)'!F29 -> 48.001552 | R29: 241 | S29: =J29-R29 -> -228.16
A30: 24 | B30: Indusind Bank Limited | C30: 0 | D30: 0 | E30: 0 | F30: 0 | G30: 1619 | H30: 14369.84 | I30: 21 | J30: 7.11 | K30: 0 | L30: 0 | M30: 4141 | N30: 998.76 | O30: =M30+K30+I30+G30+E30+C30+MSMEoutstanding_5!M30+OutstandingAgri_4!K30 -> 442815 | P30: =N30+L30+J30+H30+F30+D30+MSMEoutstanding_5!N30+OutstandingAgri_4!L30 -> 699281.63 | Q30: =P30*100/'CD Ratio_3(i)'!F30 -> 68.493282 | R30: 2.26 | S30: =J30-R30 -> 4.85
A31: 25 | B31: Jammu and Kashmir Bank | C31: 0 | D31: 0 | E31: 10 | F31: 31.7 | G31: 62 | H31: 736.36 | I31: 0 | J31: 0 | K31: 2 | L31: 3.52 | M31: 23 | N31: 22.44 | O31: =M31+K31+I31+G31+E31+C31+MSMEoutstanding_5!M31+OutstandingAgri_4!K31 -> 381 | P31: =N31+L31+J31+H31+F31+D31+MSMEoutstanding_5!N31+OutstandingAgri_4!L31 -> 2580.15 | Q31: =P31*100/'CD Ratio_3(i)'!F31 -> 50.212906 | R31: 0 | S31: =J31-R31 -> 0
A32: 26 | B32: Karnataka Bank Limited | C32: 0 | D32: 0 | E32: 7 | F32: 19.72 | G32: 208 | H32: 2423.24 | I32: 0 | J32: 0 | K32: 0 | L32: 0 | M32: 12 | N32: 279.4 | O32: =M32+K32+I32+G32+E32+C32+MSMEoutstanding_5!M32+OutstandingAgri_4!K32 -> 590 | P32: =N32+L32+J32+H32+F32+D32+MSMEoutstanding_5!N32+OutstandingAgri_4!L32 -> 16569.07 | Q32: =P32*100/'CD Ratio_3(i)'!F32 -> 48.810153 | R32: 0 | S32: =J32-R32 -> 0
A33: 27 | B33: Karur Vysya Bank Ltd. | C33: 0 | D33: 0 | E33: 0 | F33: 0 | G33: 42 | H33: 586.39 | I33: 0 | J33: 0 | K33: 0 | L33: 0 | M33: 4 | N33: 1.08 | O33: =M33+K33+I33+G33+E33+C33+MSMEoutstanding_5!M33+OutstandingAgri_4!K33 -> 235 | P33: =N33+L33+J33+H33+F33+D33+MSMEoutstanding_5!N33+OutstandingAgri_4!L33 -> 18729.66 | Q33: =P33*100/'CD Ratio_3(i)'!F33 -> 55.753456 | R33: 0 | S33: =J33-R33 -> 0
A34: 28 | B34: Kotak Mahindra Bank | C34: 0 | D34: 0 | E34: 0 | F34: 0 | G34: 467 | H34: 6755.01 | I34: 0 | J34: 0 | K34: 0 | L34: 0 | M34: 1662 | N34: 492.62 | O34: =M34+K34+I34+G34+E34+C34+MSMEoutstanding_5!M34+OutstandingAgri_4!K34 -> 208146 | P34: =N34+L34+J34+H34+F34+D34+MSMEoutstanding_5!N34+OutstandingAgri_4!L34 -> 1015861.2 | Q34: =P34*100/'CD Ratio_3(i)'!F34 -> 72.835005 | R34: 0 | S34: =J34-R34 -> 0
